BEGIN:VCALENDAR
PRODID:NingEventWidget-v1
VERSION:2.0
METHOD:PUBLISH
BEGIN:VTIMEZONE
TZID:Europe/Madrid
X-LIC-LOCATION:Europe/Madrid
BEGIN:DAYLIGHT
TZOFFSETFROM:+0100
TZOFFSETTO:+0200
TZNAME:CEST
DTSTART:19700329T020000
RRULE:FREQ=YEARLY;BYMONTH=3;BYDAY=-1SU
END:DAYLIGHT
BEGIN:STANDARD
TZOFFSETFROM:+0200
TZOFFSETTO:+0100
TZNAME:CET
DTSTART:19701025T030000
RRULE:FREQ=YEARLY;BYMONTH=10;BYDAY=-1SU
END:STANDARD
END:VTIMEZONE
BEGIN:VEVENT
UID:2016246:Event:347369
DTSTAMP:20260425T202143Z
SUMMARY:Curso Online Entorno Tecnológico del E-Learning
DESCRIPTION:El curso “Entorno Tecnológico del E-Learning” tiene c
 omo objetivos describir los aspectos tecnológicos del e-learning, sel
 eccionar tecnologías de acuerdo con el proyecto a implementar, recono
 cer y definir distintos tipos de funcionalidades en varias plataformas
 . Más información: http://www.net-learning.com.ar/cursos.php?e=9 Con
 sultas: info@net-learning.com.ar - Tel.: 54 11 4464 0350 Inscripción,
  costo y formas de pago: http://www.net-learning.com.ar/pagos.php?i=9&
 d=0\n\nPara más información visita https://internetaula.ning.com/eve
 nts/curso-online-entorno-tecnol-gico-del-e-learning
DTSTART;TZID=Europe/Madrid:20130924T100000
DTEND;TZID=Europe/Madrid:20131022T190000
CATEGORIES:curso, online, plataformas, e-learning
LOCATION:Internet - Se cursa ONLINE - Sin asistencia presencial ni hor
 arios fijos
WEBSITE:
URL:
CONTACT:
ORGANIZER;CN="Susana Trabaldo":https://internetaula.ning.com/profile/S
 usanaTrabaldo
ATTACH;FMTTYPE="image/jpeg":http://storage.ning.com/topology/rest/1.0/
 file/get/2818985112?profile=original
ATTENDEE;ROLE=REQ-PARTICIPANT;PARTSTAT=ACCEPTED;RSVP=TRUE;CN="Susana T
 rabaldo":https://internetaula.ning.com/profile/SusanaTrabaldo
END:VEVENT
END:VCALENDAR
