BEGIN:VCALENDAR
PRODID:NingEventWidget-v1
VERSION:2.0
METHOD:PUBLISH
BEGIN:VTIMEZONE
TZID:Europe/Madrid
X-LIC-LOCATION:Europe/Madrid
BEGIN:DAYLIGHT
TZOFFSETFROM:+0100
TZOFFSETTO:+0200
TZNAME:CEST
DTSTART:19700329T020000
RRULE:FREQ=YEARLY;BYMONTH=3;BYDAY=-1SU
END:DAYLIGHT
BEGIN:STANDARD
TZOFFSETFROM:+0200
TZOFFSETTO:+0100
TZNAME:CET
DTSTART:19701025T030000
RRULE:FREQ=YEARLY;BYMONTH=10;BYDAY=-1SU
END:STANDARD
END:VTIMEZONE
BEGIN:VEVENT
UID:2016246:Event:238284
DTSTAMP:20260420T235924Z
SUMMARY:Sesión de chat sobre competencia digital con Ángeles Puertas
DESCRIPTION:Como parte de las actividades de la última semana del TAA
 C sobre \"Competencia digital en el aula\", podremos charlar con Ánge
 les Puertas, la persona que ha facilitado sus contenidos y actividades
 .\n\nPara más información visita https://internetaula.ning.com/event
 s/sesion-de-chat-sobre-competencia-digital-con-angeles-puertas
DTSTART;TZID=Europe/Madrid:20111110T190000
DTEND;TZID=Europe/Madrid:20111110T200000
CATEGORIES:chat
LOCATION:Sala de chat
WEBSITE:http://internetaula.ning.com/chat
URL:http://internetaula.ning.com/chat
CONTACT:
ORGANIZER;CN="Red Social INTEF":https://internetaula.ning.com/profile/
 RedSocialITE
ATTACH;FMTTYPE="image/jpeg":
ATTENDEE;ROLE=REQ-PARTICIPANT;PARTSTAT=ACCEPTED;RSVP=TRUE;CN="felipe a
 nguiano gutierrez":https://internetaula.ning.com/profile/felipeanguian
 ogutierrez
ATTENDEE;ROLE=REQ-PARTICIPANT;PARTSTAT=ACCEPTED;RSVP=TRUE;CN=Teresa:ht
 tps://internetaula.ning.com/profile/Teresa
ATTENDEE;ROLE=REQ-PARTICIPANT;PARTSTAT=ACCEPTED;RSVP=TRUE;CN="Antonio 
 Lomba Baz":https://internetaula.ning.com/profile/AntonioLombaBaz
ATTENDEE;ROLE=REQ-PARTICIPANT;PARTSTAT=ACCEPTED;RSVP=TRUE;CN="Jose Lui
 s Cabello":https://internetaula.ning.com/profile/joseluiscabello
ATTENDEE;ROLE=REQ-PARTICIPANT;PARTSTAT=ACCEPTED;RSVP=TRUE;CN="Antonio 
 Ruiz":https://internetaula.ning.com/profile/AntonioRuiz
ATTENDEE;ROLE=REQ-PARTICIPANT;PARTSTAT=ACCEPTED;RSVP=TRUE;CN="Ercilia 
 Rosas":https://internetaula.ning.com/profile/ErciliaRosas
ATTENDEE;ROLE=REQ-PARTICIPANT;PARTSTAT=ACCEPTED;RSVP=TRUE;CN="Maryeny 
 Pallen Moreno":https://internetaula.ning.com/profile/MaryenyPallenMore
 no
ATTENDEE;ROLE=REQ-PARTICIPANT;PARTSTAT=ACCEPTED;RSVP=TRUE;CN="Miguel 
 ngel Pereira Baz":https://internetaula.ning.com/profile/MiguelAngelPe
 reiraBaz
ATTENDEE;ROLE=REQ-PARTICIPANT;PARTSTAT=ACCEPTED;RSVP=TRUE;CN="Diana Ma
 ría":https://internetaula.ning.com/profile/DianaMaria
ATTENDEE;ROLE=REQ-PARTICIPANT;PARTSTAT=ACCEPTED;RSVP=TRUE;CN="Pilar D
 az Céspedes":https://internetaula.ning.com/profile/PilarDiazCespedes
ATTENDEE;ROLE=REQ-PARTICIPANT;PARTSTAT=ACCEPTED;RSVP=TRUE;CN="Fernando
  garcia paez":https://internetaula.ning.com/profile/Fernandogarciapaez
 540
ATTENDEE;ROLE=REQ-PARTICIPANT;PARTSTAT=ACCEPTED;RSVP=TRUE;CN="Mª Jes
 s García San Martín":https://internetaula.ning.com/profile/MJesusGa
 rciaSanMartin
ATTENDEE;ROLE=REQ-PARTICIPANT;PARTSTAT=ACCEPTED;RSVP=TRUE;CN="María J
 osé Díaz Sordo":https://internetaula.ning.com/profile/MariaJoseDiazS
 ordo
ATTENDEE;ROLE=REQ-PARTICIPANT;PARTSTAT=ACCEPTED;RSVP=TRUE;CN="Julián 
 Sanz Mamolar":https://internetaula.ning.com/profile/JulianSanzMamolar
ATTENDEE;ROLE=REQ-PARTICIPANT;PARTSTAT=ACCEPTED;RSVP=TRUE;CN="Marcela 
 Lilian Silva":https://internetaula.ning.com/profile/MarcelaLilianSilva
ATTENDEE;ROLE=REQ-PARTICIPANT;PARTSTAT=ACCEPTED;RSVP=TRUE;CN="Ruben Mo
 ra":https://internetaula.ning.com/profile/RubenMora497
ATTENDEE;ROLE=REQ-PARTICIPANT;PARTSTAT=ACCEPTED;RSVP=TRUE;CN="Gerardo 
 Raúl Chunga Chinguel":https://internetaula.ning.com/profile/gchungac
ATTENDEE;ROLE=REQ-PARTICIPANT;PARTSTAT=ACCEPTED;RSVP=TRUE;CN="Angel Tu
 rrado Barrio":https://internetaula.ning.com/profile/turra2
ATTENDEE;ROLE=REQ-PARTICIPANT;PARTSTAT=ACCEPTED;RSVP=TRUE;CN="Jean Car
 los Zambrano":https://internetaula.ning.com/profile/JeanCarlosZambrano
ATTENDEE;ROLE=REQ-PARTICIPANT;PARTSTAT=ACCEPTED;RSVP=TRUE;CN="Lourdes 
 Giraldo Vargas":https://internetaula.ning.com/profile/LourdesGiraldoVa
 rgas
ATTENDEE;ROLE=REQ-PARTICIPANT;PARTSTAT=ACCEPTED;RSVP=TRUE;CN="Empar Go
 nzàlez":https://internetaula.ning.com/profile/EmparGonzalez
ATTENDEE;ROLE=REQ-PARTICIPANT;PARTSTAT=ACCEPTED;RSVP=TRUE;CN="Xorge T 
 Martinez":https://internetaula.ning.com/profile/XorgeTMartinez
ATTENDEE;ROLE=REQ-PARTICIPANT;PARTSTAT=ACCEPTED;RSVP=TRUE;CN="Red Soci
 al INTEF":https://internetaula.ning.com/profile/RedSocialITE
ATTENDEE;ROLE=REQ-PARTICIPANT;PARTSTAT=TENTATIVE;RSVP=TRUE;CN="Esther 
 Padín Vidal":https://internetaula.ning.com/profile/EstherPadinVidal
ATTENDEE;ROLE=REQ-PARTICIPANT;PARTSTAT=TENTATIVE;RSVP=TRUE;CN="Paola D
 ellepiane":https://internetaula.ning.com/profile/Paola
ATTENDEE;ROLE=REQ-PARTICIPANT;PARTSTAT=TENTATIVE;RSVP=TRUE;CN="Carmen 
 Blanco":https://internetaula.ning.com/profile/CarmenBlanco
ATTENDEE;ROLE=REQ-PARTICIPANT;PARTSTAT=TENTATIVE;RSVP=TRUE;CN="Victori
 a Minguet":https://internetaula.ning.com/profile/Victoria53
ATTENDEE;ROLE=REQ-PARTICIPANT;PARTSTAT=TENTATIVE;RSVP=TRUE;CN="José A
 ngel de Arriba de la Fuent":https://internetaula.ning.com/profile/Jose
 AngeldeArribadelaFuent
ATTENDEE;ROLE=REQ-PARTICIPANT;PARTSTAT=TENTATIVE;RSVP=TRUE;CN="Carmen 
 Gútiez":https://internetaula.ning.com/profile/CarmenGutiez
ATTENDEE;ROLE=REQ-PARTICIPANT;PARTSTAT=TENTATIVE;RSVP=TRUE;CN="Adela L
 ucena":https://internetaula.ning.com/profile/AdelaLucenaPena
ATTENDEE;ROLE=REQ-PARTICIPANT;PARTSTAT=TENTATIVE;RSVP=TRUE;CN="Charo M
 ora López":https://internetaula.ning.com/profile/CharoMoraLopez
ATTENDEE;ROLE=REQ-PARTICIPANT;PARTSTAT=TENTATIVE;RSVP=TRUE;CN="Elena J
 aureguibeitia Egusquiza":https://internetaula.ning.com/profile/ElenaJa
 ureguibeitiaEgusquiza
ATTENDEE;ROLE=REQ-PARTICIPANT;PARTSTAT=TENTATIVE;RSVP=TRUE;CN="Santiag
 o Juan Matilla":https://internetaula.ning.com/profile/SantiagoJuanMati
 lla
ATTENDEE;ROLE=REQ-PARTICIPANT;PARTSTAT=TENTATIVE;RSVP=TRUE;CN="Valent
 n Álvaro":https://internetaula.ning.com/profile/ValentinAlvaro
ATTENDEE;ROLE=REQ-PARTICIPANT;PARTSTAT=TENTATIVE;RSVP=TRUE;CN="Milagro
 s García Benito \"Marimí\"":https://internetaula.ning.com/profile/Mi
 lagrosGarciaBenitoMarimi
END:VEVENT
END:VCALENDAR
